BEGIN:VCALENDAR
VERSION:2.0
PRODID:-//192.0.78.216//NONSGML kigkonsult.se iCalcreator 2.24.2//
CALSCALE:GREGORIAN
METHOD:PUBLISH
X-FROM-URL:https://elizabethcollege.tas.edu.au
X-WR-TIMEZONE:Australia/Hobart
BEGIN:VTIMEZONE
TZID:Australia/Hobart
X-LIC-LOCATION:Australia/Hobart
BEGIN:STANDARD
DTSTART:20190407T030000
TZOFFSETFROM:+1100
TZOFFSETTO:+1000
RDATE:20200405T030000
TZNAME:AEST
END:STANDARD
BEGIN:DAYLIGHT
DTSTART:20181007T020000
TZOFFSETFROM:+1000
TZOFFSETTO:+1100
RDATE:20191006T020000
TZNAME:AEDT
END:DAYLIGHT
END:VTIMEZONE
BEGIN:VEVENT
UID:ai1ec-2956@elizabethcollege.tas.edu.au
DTSTAMP:20190226T152450Z
CATEGORIES;LANGUAGE=en-AU:Public
CONTACT:
DESCRIPTION:
DTSTART;VALUE=DATE:20181015
DTEND;VALUE=DATE:20181016
SEQUENCE:0
SUMMARY:Term 4 Begins
URL:https://elizabethcollege.tas.edu.au/event/term-4-begins/
X-COST-TYPE:free
END:VEVENT
BEGIN:VEVENT
UID:ai1ec-2958@elizabethcollege.tas.edu.au
DTSTAMP:20190226T152450Z
CATEGORIES;LANGUAGE=en-AU:Public
CONTACT:
DESCRIPTION:
DTSTART;VALUE=DATE:20181025
DTEND;VALUE=DATE:20181026
SEQUENCE:0
SUMMARY:Show Day
URL:https://elizabethcollege.tas.edu.au/event/show-day/
X-COST-TYPE:free
END:VEVENT
BEGIN:VEVENT
UID:ai1ec-2959@elizabethcollege.tas.edu.au
DTSTAMP:20190226T152450Z
CATEGORIES;LANGUAGE=en-AU:Public
CONTACT:
DESCRIPTION:
DTSTART;VALUE=DATE:20181108
DTEND;VALUE=DATE:20181109
SEQUENCE:0
SUMMARY:VET Graduation
URL:https://elizabethcollege.tas.edu.au/event/vet-graduation/
X-COST-TYPE:free
END:VEVENT
BEGIN:VEVENT
UID:ai1ec-2960@elizabethcollege.tas.edu.au
DTSTAMP:20190226T152450Z
CATEGORIES;LANGUAGE=en-AU:Public
CONTACT:
DESCRIPTION:
DTSTART;VALUE=DATE:20181109
DTEND;VALUE=DATE:20181110
SEQUENCE:0
SUMMARY:Final Assembly
URL:https://elizabethcollege.tas.edu.au/event/final-assembly/
X-COST-TYPE:free
END:VEVENT
BEGIN:VEVENT
UID:ai1ec-2961@elizabethcollege.tas.edu.au
DTSTAMP:20190226T152450Z
CATEGORIES;LANGUAGE=en-AU:Public
CONTACT:
DESCRIPTION:
DTSTART;VALUE=DATE:20181112
DTEND;VALUE=DATE:20181123
SEQUENCE:0
SUMMARY:TASC Exams
URL:https://elizabethcollege.tas.edu.au/event/tasc-exams/
X-COST-TYPE:free
END:VEVENT
BEGIN:VEVENT
UID:ai1ec-2962@elizabethcollege.tas.edu.au
DTSTAMP:20190226T152450Z
CATEGORIES;LANGUAGE=en-AU:Staff
CONTACT:
DESCRIPTION:
DTSTART;VALUE=DATE:20181214
DTEND;VALUE=DATE:20181215
SEQUENCE:0
SUMMARY:Teaching Staff – Last Day
URL:https://elizabethcollege.tas.edu.au/event/teaching-staff-last-day/
X-COST-TYPE:free
END:VEVENT
BEGIN:VEVENT
UID:ai1ec-2963@elizabethcollege.tas.edu.au
DTSTAMP:20190226T152450Z
CATEGORIES;LANGUAGE=en-AU:Staff
CONTACT:
DESCRIPTION:
DTSTART;VALUE=DATE:20181221
DTEND;VALUE=DATE:20181222
SEQUENCE:0
SUMMARY:Admin Office Closes
URL:https://elizabethcollege.tas.edu.au/event/admin-office-closes/
X-COST-TYPE:free
END:VEVENT
END:VCALENDAR
